BEGIN:VCALENDAR
VERSION:2.0
PRODID:-//Keauhou Shopping Center - ECPv6.15.17//NONSGML v1.0//EN
CALSCALE:GREGORIAN
METHOD:PUBLISH
X-ORIGINAL-URL:https://keauhoushoppingcenter.com
X-WR-CALDESC:Events for Keauhou Shopping Center
REFRESH-INTERVAL;VALUE=DURATION:PT1H
X-Robots-Tag:noindex
X-PUBLISHED-TTL:PT1H
BEGIN:VTIMEZONE
TZID:Pacific/Honolulu
BEGIN:STANDARD
TZOFFSETFROM:-1000
TZOFFSETTO:-1000
TZNAME:HST
DTSTART:20250101T000000
END:STANDARD
END:VTIMEZONE
BEGIN:VEVENT
DTSTART;TZID=Pacific/Honolulu:20261002T180000
DTEND;TZID=Pacific/Honolulu:20261002T190000
DTSTAMP:20260421T002727
CREATED:20251213T004759Z
LAST-MODIFIED:20251213T005150Z
UID:10001199-1790964000-1790967600@keauhoushoppingcenter.com
SUMMARY:Friday Hula
DESCRIPTION:Enjoy free Friday night hula performances in our courtyard! Join us for dinner and stay for the show.
URL:https://keauhoushoppingcenter.com/events/friday-hula-5-2/2026-10-02/
CATEGORIES:Arts, Culture and Music
ATTACH;FMTTYPE=image/png:https://keauhoushoppingcenter.com/wp-content/uploads/2023/11/Untitled-design-60.png
END:VEVENT
BEGIN:VEVENT
DTSTART;TZID=Pacific/Honolulu:20261009T180000
DTEND;TZID=Pacific/Honolulu:20261009T190000
DTSTAMP:20260421T002727
CREATED:20251213T004759Z
LAST-MODIFIED:20251213T005150Z
UID:10001200-1791568800-1791572400@keauhoushoppingcenter.com
SUMMARY:Friday Hula
DESCRIPTION:Enjoy free Friday night hula performances in our courtyard! Join us for dinner and stay for the show.
URL:https://keauhoushoppingcenter.com/events/friday-hula-5-2/2026-10-09/
CATEGORIES:Arts, Culture and Music
ATTACH;FMTTYPE=image/png:https://keauhoushoppingcenter.com/wp-content/uploads/2023/11/Untitled-design-60.png
END:VEVENT
BEGIN:VEVENT
DTSTART;TZID=Pacific/Honolulu:20261016T180000
DTEND;TZID=Pacific/Honolulu:20261016T190000
DTSTAMP:20260421T002727
CREATED:20251213T004759Z
LAST-MODIFIED:20251213T005150Z
UID:10001201-1792173600-1792177200@keauhoushoppingcenter.com
SUMMARY:Friday Hula
DESCRIPTION:Enjoy free Friday night hula performances in our courtyard! Join us for dinner and stay for the show.
URL:https://keauhoushoppingcenter.com/events/friday-hula-5-2/2026-10-16/
CATEGORIES:Arts, Culture and Music
ATTACH;FMTTYPE=image/png:https://keauhoushoppingcenter.com/wp-content/uploads/2023/11/Untitled-design-60.png
END:VEVENT
BEGIN:VEVENT
DTSTART;TZID=Pacific/Honolulu:20261023T180000
DTEND;TZID=Pacific/Honolulu:20261023T190000
DTSTAMP:20260421T002727
CREATED:20251213T004759Z
LAST-MODIFIED:20251213T005150Z
UID:10001202-1792778400-1792782000@keauhoushoppingcenter.com
SUMMARY:Friday Hula
DESCRIPTION:Enjoy free Friday night hula performances in our courtyard! Join us for dinner and stay for the show.
URL:https://keauhoushoppingcenter.com/events/friday-hula-5-2/2026-10-23/
CATEGORIES:Arts, Culture and Music
ATTACH;FMTTYPE=image/png:https://keauhoushoppingcenter.com/wp-content/uploads/2023/11/Untitled-design-60.png
END:VEVENT
BEGIN:VEVENT
DTSTART;TZID=Pacific/Honolulu:20261030T180000
DTEND;TZID=Pacific/Honolulu:20261030T190000
DTSTAMP:20260421T002727
CREATED:20251213T005925Z
LAST-MODIFIED:20251213T005925Z
UID:10001419-1793383200-1793386800@keauhoushoppingcenter.com
SUMMARY:Friday Night Entertainment with Russell Paio
DESCRIPTION:Enjoy free Friday night entertainment with Russell Paio in our courtyard! Join us for dinner and stay for the show. \nNo hula show.
URL:https://keauhoushoppingcenter.com/events/friday-night-entertainment-with-russell-paio-2/
CATEGORIES:Arts, Culture and Music
ATTACH;FMTTYPE=image/png:https://keauhoushoppingcenter.com/wp-content/uploads/2025/05/Russell-Paio-1.png
END:VEVENT
END:VCALENDAR