BEGIN:VCALENDAR
VERSION:2.0
PRODID:-//Keauhou Shopping Center - ECPv6.15.17//NONSGML v1.0//EN
CALSCALE:GREGORIAN
METHOD:PUBLISH
X-WR-CALNAME:Keauhou Shopping Center
X-ORIGINAL-URL:https://keauhoushoppingcenter.com
X-WR-CALDESC:Events for Keauhou Shopping Center
REFRESH-INTERVAL;VALUE=DURATION:PT1H
X-Robots-Tag:noindex
X-PUBLISHED-TTL:PT1H
BEGIN:VTIMEZONE
TZID:Pacific/Honolulu
BEGIN:STANDARD
TZOFFSETFROM:-1000
TZOFFSETTO:-1000
TZNAME:HST
DTSTART:20240101T000000
END:STANDARD
END:VTIMEZONE
BEGIN:VTIMEZONE
TZID:America/Detroit
BEGIN:DAYLIGHT
TZOFFSETFROM:-0500
TZOFFSETTO:-0400
TZNAME:EDT
DTSTART:20220313T070000
END:DAYLIGHT
BEGIN:STANDARD
TZOFFSETFROM:-0400
TZOFFSETTO:-0500
TZNAME:EST
DTSTART:20221106T060000
END:STANDARD
BEGIN:DAYLIGHT
TZOFFSETFROM:-0500
TZOFFSETTO:-0400
TZNAME:EDT
DTSTART:20230312T070000
END:DAYLIGHT
BEGIN:STANDARD
TZOFFSETFROM:-0400
TZOFFSETTO:-0500
TZNAME:EST
DTSTART:20231105T060000
END:STANDARD
BEGIN:DAYLIGHT
TZOFFSETFROM:-0500
TZOFFSETTO:-0400
TZNAME:EDT
DTSTART:20240310T070000
END:DAYLIGHT
BEGIN:STANDARD
TZOFFSETFROM:-0400
TZOFFSETTO:-0500
TZNAME:EST
DTSTART:20241103T060000
END:STANDARD
END:VTIMEZONE
BEGIN:VEVENT
DTSTART;TZID=Pacific/Honolulu:20250725T180000
DTEND;TZID=Pacific/Honolulu:20250725T190000
DTSTAMP:20260423T000649
CREATED:20250510T002732Z
LAST-MODIFIED:20251213T002341Z
UID:10000242-1753466400-1753470000@keauhoushoppingcenter.com
SUMMARY:Friday Hula
DESCRIPTION:Enjoy free Friday night hula performances in our courtyard! Join us for dinner and stay for the show.
URL:https://keauhoushoppingcenter.com/events/friday-hula/2025-07-25/
CATEGORIES:Arts, Culture and Music
ATTACH;FMTTYPE=image/png:https://keauhoushoppingcenter.com/wp-content/uploads/2023/11/Untitled-design-60.png
END:VEVENT
BEGIN:VEVENT
DTSTART;TZID=Pacific/Honolulu:20250718T180000
DTEND;TZID=Pacific/Honolulu:20250718T190000
DTSTAMP:20260423T000649
CREATED:20250510T002732Z
LAST-MODIFIED:20251213T002341Z
UID:10000241-1752861600-1752865200@keauhoushoppingcenter.com
SUMMARY:Friday Hula
DESCRIPTION:Enjoy free Friday night hula performances in our courtyard! Join us for dinner and stay for the show.
URL:https://keauhoushoppingcenter.com/events/friday-hula/2025-07-18/
CATEGORIES:Arts, Culture and Music
ATTACH;FMTTYPE=image/png:https://keauhoushoppingcenter.com/wp-content/uploads/2023/11/Untitled-design-60.png
END:VEVENT
BEGIN:VEVENT
DTSTART;TZID=Pacific/Honolulu:20250711T180000
DTEND;TZID=Pacific/Honolulu:20250711T190000
DTSTAMP:20260423T000649
CREATED:20250528T202829Z
LAST-MODIFIED:20250531T014243Z
UID:10000240-1752256800-1752260400@keauhoushoppingcenter.com
SUMMARY:Russell Paio
DESCRIPTION:Enjoy free Friday night entertainment with Russell Paio in our courtyard! Join us for dinner and stay for the show. \n*No hula show tonight.
URL:https://keauhoushoppingcenter.com/events/russell-paio/
CATEGORIES:Arts, Culture and Music
ATTACH;FMTTYPE=image/png:https://keauhoushoppingcenter.com/wp-content/uploads/2025/05/Russell-Paio.png
END:VEVENT
BEGIN:VEVENT
DTSTART;TZID=Pacific/Honolulu:20250711T180000
DTEND;TZID=Pacific/Honolulu:20250711T190000
DTSTAMP:20260423T000649
CREATED:20250510T002732Z
LAST-MODIFIED:20251213T002341Z
UID:10001130-1752256800-1752260400@keauhoushoppingcenter.com
SUMMARY:Friday Hula
DESCRIPTION:Enjoy free Friday night hula performances in our courtyard! Join us for dinner and stay for the show.
URL:https://keauhoushoppingcenter.com/events/friday-hula/2025-07-11/
CATEGORIES:Arts, Culture and Music
ATTACH;FMTTYPE=image/png:https://keauhoushoppingcenter.com/wp-content/uploads/2023/11/Untitled-design-60.png
END:VEVENT
BEGIN:VEVENT
DTSTART;TZID=Pacific/Honolulu:20250704T180000
DTEND;TZID=Pacific/Honolulu:20250704T190000
DTSTAMP:20260423T000649
CREATED:20250510T002732Z
LAST-MODIFIED:20251213T002341Z
UID:10001129-1751652000-1751655600@keauhoushoppingcenter.com
SUMMARY:Friday Hula
DESCRIPTION:Enjoy free Friday night hula performances in our courtyard! Join us for dinner and stay for the show.
URL:https://keauhoushoppingcenter.com/events/friday-hula/2025-07-04/
CATEGORIES:Arts, Culture and Music
ATTACH;FMTTYPE=image/png:https://keauhoushoppingcenter.com/wp-content/uploads/2023/11/Untitled-design-60.png
END:VEVENT
BEGIN:VEVENT
DTSTART;TZID=Pacific/Honolulu:20250627T180000
DTEND;TZID=Pacific/Honolulu:20250627T190000
DTSTAMP:20260423T000649
CREATED:20250510T002732Z
LAST-MODIFIED:20251213T002341Z
UID:10000238-1751047200-1751050800@keauhoushoppingcenter.com
SUMMARY:Friday Hula
DESCRIPTION:Enjoy free Friday night hula performances in our courtyard! Join us for dinner and stay for the show.
URL:https://keauhoushoppingcenter.com/events/friday-hula/2025-06-27/
CATEGORIES:Arts, Culture and Music
ATTACH;FMTTYPE=image/png:https://keauhoushoppingcenter.com/wp-content/uploads/2023/11/Untitled-design-60.png
END:VEVENT
BEGIN:VEVENT
DTSTART;TZID=Pacific/Honolulu:20250620T180000
DTEND;TZID=Pacific/Honolulu:20250620T190000
DTSTAMP:20260423T000649
CREATED:20250510T002732Z
LAST-MODIFIED:20251213T002341Z
UID:10001128-1750442400-1750446000@keauhoushoppingcenter.com
SUMMARY:Friday Hula
DESCRIPTION:Enjoy free Friday night hula performances in our courtyard! Join us for dinner and stay for the show.
URL:https://keauhoushoppingcenter.com/events/friday-hula/2025-06-20/
CATEGORIES:Arts, Culture and Music
ATTACH;FMTTYPE=image/png:https://keauhoushoppingcenter.com/wp-content/uploads/2023/11/Untitled-design-60.png
END:VEVENT
BEGIN:VEVENT
DTSTART;TZID=Pacific/Honolulu:20250613T180000
DTEND;TZID=Pacific/Honolulu:20250613T190000
DTSTAMP:20260423T000649
CREATED:20250510T002732Z
LAST-MODIFIED:20251213T002341Z
UID:10000236-1749837600-1749841200@keauhoushoppingcenter.com
SUMMARY:Friday Hula
DESCRIPTION:Enjoy free Friday night hula performances in our courtyard! Join us for dinner and stay for the show.
URL:https://keauhoushoppingcenter.com/events/friday-hula/2025-06-13/
CATEGORIES:Arts, Culture and Music
ATTACH;FMTTYPE=image/png:https://keauhoushoppingcenter.com/wp-content/uploads/2023/11/Untitled-design-60.png
END:VEVENT
BEGIN:VEVENT
DTSTART;TZID=Pacific/Honolulu:20250606T180000
DTEND;TZID=Pacific/Honolulu:20250606T190000
DTSTAMP:20260423T000649
CREATED:20250510T002732Z
LAST-MODIFIED:20251213T002341Z
UID:10000235-1749232800-1749236400@keauhoushoppingcenter.com
SUMMARY:Friday Hula
DESCRIPTION:Enjoy free Friday night hula performances in our courtyard! Join us for dinner and stay for the show.
URL:https://keauhoushoppingcenter.com/events/friday-hula/2025-06-06/
CATEGORIES:Arts, Culture and Music
ATTACH;FMTTYPE=image/png:https://keauhoushoppingcenter.com/wp-content/uploads/2023/11/Untitled-design-60.png
END:VEVENT
BEGIN:VEVENT
DTSTART;TZID=Pacific/Honolulu:20250530T180000
DTEND;TZID=Pacific/Honolulu:20250530T190000
DTSTAMP:20260423T000649
CREATED:20250510T002732Z
LAST-MODIFIED:20251213T002341Z
UID:10000234-1748628000-1748631600@keauhoushoppingcenter.com
SUMMARY:Friday Hula
DESCRIPTION:Enjoy free Friday night hula performances in our courtyard! Join us for dinner and stay for the show.
URL:https://keauhoushoppingcenter.com/events/friday-hula/2025-05-30/
CATEGORIES:Arts, Culture and Music
ATTACH;FMTTYPE=image/png:https://keauhoushoppingcenter.com/wp-content/uploads/2023/11/Untitled-design-60.png
END:VEVENT
BEGIN:VEVENT
DTSTART;TZID=Pacific/Honolulu:20250523T180000
DTEND;TZID=Pacific/Honolulu:20250523T190000
DTSTAMP:20260423T000649
CREATED:20250510T002732Z
LAST-MODIFIED:20251213T002341Z
UID:10000233-1748023200-1748026800@keauhoushoppingcenter.com
SUMMARY:Friday Hula
DESCRIPTION:Enjoy free Friday night hula performances in our courtyard! Join us for dinner and stay for the show.
URL:https://keauhoushoppingcenter.com/events/friday-hula/2025-05-23/
CATEGORIES:Arts, Culture and Music
ATTACH;FMTTYPE=image/png:https://keauhoushoppingcenter.com/wp-content/uploads/2023/11/Untitled-design-60.png
END:VEVENT
BEGIN:VEVENT
DTSTART;TZID=Pacific/Honolulu:20250516T180000
DTEND;TZID=Pacific/Honolulu:20250516T190000
DTSTAMP:20260423T000649
CREATED:20250510T002732Z
LAST-MODIFIED:20251213T002341Z
UID:10000232-1747418400-1747422000@keauhoushoppingcenter.com
SUMMARY:Friday Hula
DESCRIPTION:Enjoy free Friday night hula performances in our courtyard! Join us for dinner and stay for the show.
URL:https://keauhoushoppingcenter.com/events/friday-hula/2025-05-16/
CATEGORIES:Arts, Culture and Music
ATTACH;FMTTYPE=image/png:https://keauhoushoppingcenter.com/wp-content/uploads/2023/11/Untitled-design-60.png
END:VEVENT
BEGIN:VEVENT
DTSTART;TZID=Pacific/Honolulu:20250509T180000
DTEND;TZID=Pacific/Honolulu:20250509T190000
DTSTAMP:20260423T000649
CREATED:20250510T002732Z
LAST-MODIFIED:20251213T002341Z
UID:10000231-1746813600-1746817200@keauhoushoppingcenter.com
SUMMARY:Friday Hula
DESCRIPTION:Enjoy free Friday night hula performances in our courtyard! Join us for dinner and stay for the show.
URL:https://keauhoushoppingcenter.com/events/friday-hula/2025-05-09/
CATEGORIES:Arts, Culture and Music
ATTACH;FMTTYPE=image/png:https://keauhoushoppingcenter.com/wp-content/uploads/2023/11/Untitled-design-60.png
END:VEVENT
BEGIN:VEVENT
DTSTART;TZID=America/Detroit:20231118T180000
DTEND;TZID=America/Detroit:20231118T190000
DTSTAMP:20260423T000649
CREATED:20231115T052257Z
LAST-MODIFIED:20250509T235836Z
UID:10000013-1700330400-1700334000@keauhoushoppingcenter.com
SUMMARY:friday hula
DESCRIPTION:Free Friday hula in the courtyard.  Please stop by for dinner and watch our hula show!
URL:https://keauhoushoppingcenter.com/events/1773/
CATEGORIES:Arts, Culture and Music
ATTACH;FMTTYPE=image/png:https://keauhoushoppingcenter.com/wp-content/uploads/2023/11/Untitled-design-60.png
END:VEVENT
END:VCALENDAR