BEGIN:VCALENDAR
VERSION:2.0
PRODID:-//Keauhou Shopping Center - ECPv6.15.17//NONSGML v1.0//EN
CALSCALE:GREGORIAN
METHOD:PUBLISH
X-WR-CALNAME:Keauhou Shopping Center
X-ORIGINAL-URL:https://keauhoushoppingcenter.com
X-WR-CALDESC:Events for Keauhou Shopping Center
REFRESH-INTERVAL;VALUE=DURATION:PT1H
X-Robots-Tag:noindex
X-PUBLISHED-TTL:PT1H
BEGIN:VTIMEZONE
TZID:Pacific/Honolulu
BEGIN:STANDARD
TZOFFSETFROM:-1000
TZOFFSETTO:-1000
TZNAME:HST
DTSTART:20260101T000000
END:STANDARD
END:VTIMEZONE
BEGIN:VEVENT
DTSTART;TZID=Pacific/Honolulu:20271112T180000
DTEND;TZID=Pacific/Honolulu:20271112T190000
DTSTAMP:20260419T231752
CREATED:20251213T004759Z
LAST-MODIFIED:20251213T005150Z
UID:10001257-1826042400-1826046000@keauhoushoppingcenter.com
SUMMARY:Friday Hula
DESCRIPTION:Enjoy free Friday night hula performances in our courtyard! Join us for dinner and stay for the show.
URL:https://keauhoushoppingcenter.com/events/friday-hula-5-2/2027-11-12/
CATEGORIES:Arts, Culture and Music
ATTACH;FMTTYPE=image/png:https://keauhoushoppingcenter.com/wp-content/uploads/2023/11/Untitled-design-60.png
END:VEVENT
BEGIN:VEVENT
DTSTART;TZID=Pacific/Honolulu:20271119T180000
DTEND;TZID=Pacific/Honolulu:20271119T190000
DTSTAMP:20260419T231752
CREATED:20251213T004759Z
LAST-MODIFIED:20251213T005150Z
UID:10001258-1826647200-1826650800@keauhoushoppingcenter.com
SUMMARY:Friday Hula
DESCRIPTION:Enjoy free Friday night hula performances in our courtyard! Join us for dinner and stay for the show.
URL:https://keauhoushoppingcenter.com/events/friday-hula-5-2/2027-11-19/
CATEGORIES:Arts, Culture and Music
ATTACH;FMTTYPE=image/png:https://keauhoushoppingcenter.com/wp-content/uploads/2023/11/Untitled-design-60.png
END:VEVENT
BEGIN:VEVENT
DTSTART;TZID=Pacific/Honolulu:20271126T180000
DTEND;TZID=Pacific/Honolulu:20271126T190000
DTSTAMP:20260419T231752
CREATED:20251213T004759Z
LAST-MODIFIED:20251213T005150Z
UID:10001259-1827252000-1827255600@keauhoushoppingcenter.com
SUMMARY:Friday Hula
DESCRIPTION:Enjoy free Friday night hula performances in our courtyard! Join us for dinner and stay for the show.
URL:https://keauhoushoppingcenter.com/events/friday-hula-5-2/2027-11-26/
CATEGORIES:Arts, Culture and Music
ATTACH;FMTTYPE=image/png:https://keauhoushoppingcenter.com/wp-content/uploads/2023/11/Untitled-design-60.png
END:VEVENT
BEGIN:VEVENT
DTSTART;TZID=Pacific/Honolulu:20271203T180000
DTEND;TZID=Pacific/Honolulu:20271203T190000
DTSTAMP:20260419T231752
CREATED:20251213T004759Z
LAST-MODIFIED:20251213T005150Z
UID:10001260-1827856800-1827860400@keauhoushoppingcenter.com
SUMMARY:Friday Hula
DESCRIPTION:Enjoy free Friday night hula performances in our courtyard! Join us for dinner and stay for the show.
URL:https://keauhoushoppingcenter.com/events/friday-hula-5-2/2027-12-03/
CATEGORIES:Arts, Culture and Music
ATTACH;FMTTYPE=image/png:https://keauhoushoppingcenter.com/wp-content/uploads/2023/11/Untitled-design-60.png
END:VEVENT
BEGIN:VEVENT
DTSTART;TZID=Pacific/Honolulu:20271210T180000
DTEND;TZID=Pacific/Honolulu:20271210T190000
DTSTAMP:20260419T231752
CREATED:20251213T004759Z
LAST-MODIFIED:20251213T005150Z
UID:10001261-1828461600-1828465200@keauhoushoppingcenter.com
SUMMARY:Friday Hula
DESCRIPTION:Enjoy free Friday night hula performances in our courtyard! Join us for dinner and stay for the show.
URL:https://keauhoushoppingcenter.com/events/friday-hula-5-2/2027-12-10/
CATEGORIES:Arts, Culture and Music
ATTACH;FMTTYPE=image/png:https://keauhoushoppingcenter.com/wp-content/uploads/2023/11/Untitled-design-60.png
END:VEVENT
BEGIN:VEVENT
DTSTART;TZID=Pacific/Honolulu:20271217T180000
DTEND;TZID=Pacific/Honolulu:20271217T190000
DTSTAMP:20260419T231752
CREATED:20251213T004759Z
LAST-MODIFIED:20251213T005150Z
UID:10001262-1829066400-1829070000@keauhoushoppingcenter.com
SUMMARY:Friday Hula
DESCRIPTION:Enjoy free Friday night hula performances in our courtyard! Join us for dinner and stay for the show.
URL:https://keauhoushoppingcenter.com/events/friday-hula-5-2/2027-12-17/
CATEGORIES:Arts, Culture and Music
ATTACH;FMTTYPE=image/png:https://keauhoushoppingcenter.com/wp-content/uploads/2023/11/Untitled-design-60.png
END:VEVENT
BEGIN:VEVENT
DTSTART;TZID=Pacific/Honolulu:20271224T180000
DTEND;TZID=Pacific/Honolulu:20271224T190000
DTSTAMP:20260419T231752
CREATED:20251213T004759Z
LAST-MODIFIED:20251213T005150Z
UID:10001263-1829671200-1829674800@keauhoushoppingcenter.com
SUMMARY:Friday Hula
DESCRIPTION:Enjoy free Friday night hula performances in our courtyard! Join us for dinner and stay for the show.
URL:https://keauhoushoppingcenter.com/events/friday-hula-5-2/2027-12-24/
CATEGORIES:Arts, Culture and Music
ATTACH;FMTTYPE=image/png:https://keauhoushoppingcenter.com/wp-content/uploads/2023/11/Untitled-design-60.png
END:VEVENT
BEGIN:VEVENT
DTSTART;TZID=Pacific/Honolulu:20271231T180000
DTEND;TZID=Pacific/Honolulu:20271231T190000
DTSTAMP:20260419T231752
CREATED:20251213T004759Z
LAST-MODIFIED:20251213T005150Z
UID:10001264-1830276000-1830279600@keauhoushoppingcenter.com
SUMMARY:Friday Hula
DESCRIPTION:Enjoy free Friday night hula performances in our courtyard! Join us for dinner and stay for the show.
URL:https://keauhoushoppingcenter.com/events/friday-hula-5-2/2027-12-31/
CATEGORIES:Arts, Culture and Music
ATTACH;FMTTYPE=image/png:https://keauhoushoppingcenter.com/wp-content/uploads/2023/11/Untitled-design-60.png
END:VEVENT
BEGIN:VEVENT
DTSTART;TZID=Pacific/Honolulu:20280107T180000
DTEND;TZID=Pacific/Honolulu:20280107T190000
DTSTAMP:20260419T231752
CREATED:20251213T004759Z
LAST-MODIFIED:20251213T005150Z
UID:10001265-1830880800-1830884400@keauhoushoppingcenter.com
SUMMARY:Friday Hula
DESCRIPTION:Enjoy free Friday night hula performances in our courtyard! Join us for dinner and stay for the show.
URL:https://keauhoushoppingcenter.com/events/friday-hula-5-2/2028-01-07/
CATEGORIES:Arts, Culture and Music
ATTACH;FMTTYPE=image/png:https://keauhoushoppingcenter.com/wp-content/uploads/2023/11/Untitled-design-60.png
END:VEVENT
BEGIN:VEVENT
DTSTART;TZID=Pacific/Honolulu:20280114T180000
DTEND;TZID=Pacific/Honolulu:20280114T190000
DTSTAMP:20260419T231752
CREATED:20251213T004759Z
LAST-MODIFIED:20251213T005150Z
UID:10001266-1831485600-1831489200@keauhoushoppingcenter.com
SUMMARY:Friday Hula
DESCRIPTION:Enjoy free Friday night hula performances in our courtyard! Join us for dinner and stay for the show.
URL:https://keauhoushoppingcenter.com/events/friday-hula-5-2/2028-01-14/
CATEGORIES:Arts, Culture and Music
ATTACH;FMTTYPE=image/png:https://keauhoushoppingcenter.com/wp-content/uploads/2023/11/Untitled-design-60.png
END:VEVENT
BEGIN:VEVENT
DTSTART;TZID=Pacific/Honolulu:20280121T180000
DTEND;TZID=Pacific/Honolulu:20280121T190000
DTSTAMP:20260419T231752
CREATED:20251213T004759Z
LAST-MODIFIED:20251213T005150Z
UID:10001267-1832090400-1832094000@keauhoushoppingcenter.com
SUMMARY:Friday Hula
DESCRIPTION:Enjoy free Friday night hula performances in our courtyard! Join us for dinner and stay for the show.
URL:https://keauhoushoppingcenter.com/events/friday-hula-5-2/2028-01-21/
CATEGORIES:Arts, Culture and Music
ATTACH;FMTTYPE=image/png:https://keauhoushoppingcenter.com/wp-content/uploads/2023/11/Untitled-design-60.png
END:VEVENT
BEGIN:VEVENT
DTSTART;TZID=Pacific/Honolulu:20280128T180000
DTEND;TZID=Pacific/Honolulu:20280128T190000
DTSTAMP:20260419T231752
CREATED:20251213T004759Z
LAST-MODIFIED:20251213T005150Z
UID:10001268-1832695200-1832698800@keauhoushoppingcenter.com
SUMMARY:Friday Hula
DESCRIPTION:Enjoy free Friday night hula performances in our courtyard! Join us for dinner and stay for the show.
URL:https://keauhoushoppingcenter.com/events/friday-hula-5-2/2028-01-28/
CATEGORIES:Arts, Culture and Music
ATTACH;FMTTYPE=image/png:https://keauhoushoppingcenter.com/wp-content/uploads/2023/11/Untitled-design-60.png
END:VEVENT
BEGIN:VEVENT
DTSTART;TZID=Pacific/Honolulu:20280204T180000
DTEND;TZID=Pacific/Honolulu:20280204T190000
DTSTAMP:20260419T231752
CREATED:20251213T004759Z
LAST-MODIFIED:20251213T005150Z
UID:10001269-1833300000-1833303600@keauhoushoppingcenter.com
SUMMARY:Friday Hula
DESCRIPTION:Enjoy free Friday night hula performances in our courtyard! Join us for dinner and stay for the show.
URL:https://keauhoushoppingcenter.com/events/friday-hula-5-2/2028-02-04/
CATEGORIES:Arts, Culture and Music
ATTACH;FMTTYPE=image/png:https://keauhoushoppingcenter.com/wp-content/uploads/2023/11/Untitled-design-60.png
END:VEVENT
BEGIN:VEVENT
DTSTART;TZID=Pacific/Honolulu:20280211T180000
DTEND;TZID=Pacific/Honolulu:20280211T190000
DTSTAMP:20260419T231752
CREATED:20251213T004759Z
LAST-MODIFIED:20251213T005150Z
UID:10001270-1833904800-1833908400@keauhoushoppingcenter.com
SUMMARY:Friday Hula
DESCRIPTION:Enjoy free Friday night hula performances in our courtyard! Join us for dinner and stay for the show.
URL:https://keauhoushoppingcenter.com/events/friday-hula-5-2/2028-02-11/
CATEGORIES:Arts, Culture and Music
ATTACH;FMTTYPE=image/png:https://keauhoushoppingcenter.com/wp-content/uploads/2023/11/Untitled-design-60.png
END:VEVENT
BEGIN:VEVENT
DTSTART;TZID=Pacific/Honolulu:20280218T180000
DTEND;TZID=Pacific/Honolulu:20280218T190000
DTSTAMP:20260419T231752
CREATED:20251213T004759Z
LAST-MODIFIED:20251213T005150Z
UID:10001271-1834509600-1834513200@keauhoushoppingcenter.com
SUMMARY:Friday Hula
DESCRIPTION:Enjoy free Friday night hula performances in our courtyard! Join us for dinner and stay for the show.
URL:https://keauhoushoppingcenter.com/events/friday-hula-5-2/2028-02-18/
CATEGORIES:Arts, Culture and Music
ATTACH;FMTTYPE=image/png:https://keauhoushoppingcenter.com/wp-content/uploads/2023/11/Untitled-design-60.png
END:VEVENT
BEGIN:VEVENT
DTSTART;TZID=Pacific/Honolulu:20280225T180000
DTEND;TZID=Pacific/Honolulu:20280225T190000
DTSTAMP:20260419T231752
CREATED:20251213T004759Z
LAST-MODIFIED:20251213T005150Z
UID:10001272-1835114400-1835118000@keauhoushoppingcenter.com
SUMMARY:Friday Hula
DESCRIPTION:Enjoy free Friday night hula performances in our courtyard! Join us for dinner and stay for the show.
URL:https://keauhoushoppingcenter.com/events/friday-hula-5-2/2028-02-25/
CATEGORIES:Arts, Culture and Music
ATTACH;FMTTYPE=image/png:https://keauhoushoppingcenter.com/wp-content/uploads/2023/11/Untitled-design-60.png
END:VEVENT
BEGIN:VEVENT
DTSTART;TZID=Pacific/Honolulu:20280303T180000
DTEND;TZID=Pacific/Honolulu:20280303T190000
DTSTAMP:20260419T231752
CREATED:20251213T004759Z
LAST-MODIFIED:20251213T005150Z
UID:10001273-1835719200-1835722800@keauhoushoppingcenter.com
SUMMARY:Friday Hula
DESCRIPTION:Enjoy free Friday night hula performances in our courtyard! Join us for dinner and stay for the show.
URL:https://keauhoushoppingcenter.com/events/friday-hula-5-2/2028-03-03/
CATEGORIES:Arts, Culture and Music
ATTACH;FMTTYPE=image/png:https://keauhoushoppingcenter.com/wp-content/uploads/2023/11/Untitled-design-60.png
END:VEVENT
BEGIN:VEVENT
DTSTART;TZID=Pacific/Honolulu:20280310T180000
DTEND;TZID=Pacific/Honolulu:20280310T190000
DTSTAMP:20260419T231752
CREATED:20251213T004759Z
LAST-MODIFIED:20251213T005150Z
UID:10001274-1836324000-1836327600@keauhoushoppingcenter.com
SUMMARY:Friday Hula
DESCRIPTION:Enjoy free Friday night hula performances in our courtyard! Join us for dinner and stay for the show.
URL:https://keauhoushoppingcenter.com/events/friday-hula-5-2/2028-03-10/
CATEGORIES:Arts, Culture and Music
ATTACH;FMTTYPE=image/png:https://keauhoushoppingcenter.com/wp-content/uploads/2023/11/Untitled-design-60.png
END:VEVENT
BEGIN:VEVENT
DTSTART;TZID=Pacific/Honolulu:20280317T180000
DTEND;TZID=Pacific/Honolulu:20280317T190000
DTSTAMP:20260419T231752
CREATED:20251213T004759Z
LAST-MODIFIED:20251213T005150Z
UID:10001275-1836928800-1836932400@keauhoushoppingcenter.com
SUMMARY:Friday Hula
DESCRIPTION:Enjoy free Friday night hula performances in our courtyard! Join us for dinner and stay for the show.
URL:https://keauhoushoppingcenter.com/events/friday-hula-5-2/2028-03-17/
CATEGORIES:Arts, Culture and Music
ATTACH;FMTTYPE=image/png:https://keauhoushoppingcenter.com/wp-content/uploads/2023/11/Untitled-design-60.png
END:VEVENT
BEGIN:VEVENT
DTSTART;TZID=Pacific/Honolulu:20280324T180000
DTEND;TZID=Pacific/Honolulu:20280324T190000
DTSTAMP:20260419T231752
CREATED:20251213T004759Z
LAST-MODIFIED:20251213T005150Z
UID:10001276-1837533600-1837537200@keauhoushoppingcenter.com
SUMMARY:Friday Hula
DESCRIPTION:Enjoy free Friday night hula performances in our courtyard! Join us for dinner and stay for the show.
URL:https://keauhoushoppingcenter.com/events/friday-hula-5-2/2028-03-24/
CATEGORIES:Arts, Culture and Music
ATTACH;FMTTYPE=image/png:https://keauhoushoppingcenter.com/wp-content/uploads/2023/11/Untitled-design-60.png
END:VEVENT
BEGIN:VEVENT
DTSTART;TZID=Pacific/Honolulu:20280331T180000
DTEND;TZID=Pacific/Honolulu:20280331T190000
DTSTAMP:20260419T231752
CREATED:20251213T004759Z
LAST-MODIFIED:20251213T005150Z
UID:10001277-1838138400-1838142000@keauhoushoppingcenter.com
SUMMARY:Friday Hula
DESCRIPTION:Enjoy free Friday night hula performances in our courtyard! Join us for dinner and stay for the show.
URL:https://keauhoushoppingcenter.com/events/friday-hula-5-2/2028-03-31/
CATEGORIES:Arts, Culture and Music
ATTACH;FMTTYPE=image/png:https://keauhoushoppingcenter.com/wp-content/uploads/2023/11/Untitled-design-60.png
END:VEVENT
BEGIN:VEVENT
DTSTART;TZID=Pacific/Honolulu:20280407T180000
DTEND;TZID=Pacific/Honolulu:20280407T190000
DTSTAMP:20260419T231752
CREATED:20251213T004759Z
LAST-MODIFIED:20251213T005150Z
UID:10001278-1838743200-1838746800@keauhoushoppingcenter.com
SUMMARY:Friday Hula
DESCRIPTION:Enjoy free Friday night hula performances in our courtyard! Join us for dinner and stay for the show.
URL:https://keauhoushoppingcenter.com/events/friday-hula-5-2/2028-04-07/
CATEGORIES:Arts, Culture and Music
ATTACH;FMTTYPE=image/png:https://keauhoushoppingcenter.com/wp-content/uploads/2023/11/Untitled-design-60.png
END:VEVENT
BEGIN:VEVENT
DTSTART;TZID=Pacific/Honolulu:20280414T180000
DTEND;TZID=Pacific/Honolulu:20280414T190000
DTSTAMP:20260419T231752
CREATED:20251213T004759Z
LAST-MODIFIED:20251213T005150Z
UID:10001279-1839348000-1839351600@keauhoushoppingcenter.com
SUMMARY:Friday Hula
DESCRIPTION:Enjoy free Friday night hula performances in our courtyard! Join us for dinner and stay for the show.
URL:https://keauhoushoppingcenter.com/events/friday-hula-5-2/2028-04-14/
CATEGORIES:Arts, Culture and Music
ATTACH;FMTTYPE=image/png:https://keauhoushoppingcenter.com/wp-content/uploads/2023/11/Untitled-design-60.png
END:VEVENT
BEGIN:VEVENT
DTSTART;TZID=Pacific/Honolulu:20280421T180000
DTEND;TZID=Pacific/Honolulu:20280421T190000
DTSTAMP:20260419T231752
CREATED:20251213T004759Z
LAST-MODIFIED:20251213T005150Z
UID:10001280-1839952800-1839956400@keauhoushoppingcenter.com
SUMMARY:Friday Hula
DESCRIPTION:Enjoy free Friday night hula performances in our courtyard! Join us for dinner and stay for the show.
URL:https://keauhoushoppingcenter.com/events/friday-hula-5-2/2028-04-21/
CATEGORIES:Arts, Culture and Music
ATTACH;FMTTYPE=image/png:https://keauhoushoppingcenter.com/wp-content/uploads/2023/11/Untitled-design-60.png
END:VEVENT
BEGIN:VEVENT
DTSTART;TZID=Pacific/Honolulu:20280428T180000
DTEND;TZID=Pacific/Honolulu:20280428T190000
DTSTAMP:20260419T231752
CREATED:20251213T004759Z
LAST-MODIFIED:20251213T005150Z
UID:10001281-1840557600-1840561200@keauhoushoppingcenter.com
SUMMARY:Friday Hula
DESCRIPTION:Enjoy free Friday night hula performances in our courtyard! Join us for dinner and stay for the show.
URL:https://keauhoushoppingcenter.com/events/friday-hula-5-2/2028-04-28/
CATEGORIES:Arts, Culture and Music
ATTACH;FMTTYPE=image/png:https://keauhoushoppingcenter.com/wp-content/uploads/2023/11/Untitled-design-60.png
END:VEVENT
BEGIN:VEVENT
DTSTART;TZID=Pacific/Honolulu:20280505T180000
DTEND;TZID=Pacific/Honolulu:20280505T190000
DTSTAMP:20260419T231752
CREATED:20251213T004759Z
LAST-MODIFIED:20251213T005150Z
UID:10001282-1841162400-1841166000@keauhoushoppingcenter.com
SUMMARY:Friday Hula
DESCRIPTION:Enjoy free Friday night hula performances in our courtyard! Join us for dinner and stay for the show.
URL:https://keauhoushoppingcenter.com/events/friday-hula-5-2/2028-05-05/
CATEGORIES:Arts, Culture and Music
ATTACH;FMTTYPE=image/png:https://keauhoushoppingcenter.com/wp-content/uploads/2023/11/Untitled-design-60.png
END:VEVENT
BEGIN:VEVENT
DTSTART;TZID=Pacific/Honolulu:20280512T180000
DTEND;TZID=Pacific/Honolulu:20280512T190000
DTSTAMP:20260419T231752
CREATED:20251213T004759Z
LAST-MODIFIED:20251213T005150Z
UID:10001283-1841767200-1841770800@keauhoushoppingcenter.com
SUMMARY:Friday Hula
DESCRIPTION:Enjoy free Friday night hula performances in our courtyard! Join us for dinner and stay for the show.
URL:https://keauhoushoppingcenter.com/events/friday-hula-5-2/2028-05-12/
CATEGORIES:Arts, Culture and Music
ATTACH;FMTTYPE=image/png:https://keauhoushoppingcenter.com/wp-content/uploads/2023/11/Untitled-design-60.png
END:VEVENT
BEGIN:VEVENT
DTSTART;TZID=Pacific/Honolulu:20280519T180000
DTEND;TZID=Pacific/Honolulu:20280519T190000
DTSTAMP:20260419T231752
CREATED:20251213T004759Z
LAST-MODIFIED:20251213T005150Z
UID:10001284-1842372000-1842375600@keauhoushoppingcenter.com
SUMMARY:Friday Hula
DESCRIPTION:Enjoy free Friday night hula performances in our courtyard! Join us for dinner and stay for the show.
URL:https://keauhoushoppingcenter.com/events/friday-hula-5-2/2028-05-19/
CATEGORIES:Arts, Culture and Music
ATTACH;FMTTYPE=image/png:https://keauhoushoppingcenter.com/wp-content/uploads/2023/11/Untitled-design-60.png
END:VEVENT
BEGIN:VEVENT
DTSTART;TZID=Pacific/Honolulu:20280526T180000
DTEND;TZID=Pacific/Honolulu:20280526T190000
DTSTAMP:20260419T231752
CREATED:20251213T004759Z
LAST-MODIFIED:20251213T005150Z
UID:10001285-1842976800-1842980400@keauhoushoppingcenter.com
SUMMARY:Friday Hula
DESCRIPTION:Enjoy free Friday night hula performances in our courtyard! Join us for dinner and stay for the show.
URL:https://keauhoushoppingcenter.com/events/friday-hula-5-2/2028-05-26/
CATEGORIES:Arts, Culture and Music
ATTACH;FMTTYPE=image/png:https://keauhoushoppingcenter.com/wp-content/uploads/2023/11/Untitled-design-60.png
END:VEVENT
BEGIN:VEVENT
DTSTART;TZID=Pacific/Honolulu:20280602T180000
DTEND;TZID=Pacific/Honolulu:20280602T190000
DTSTAMP:20260419T231752
CREATED:20251213T004759Z
LAST-MODIFIED:20251213T005150Z
UID:10001286-1843581600-1843585200@keauhoushoppingcenter.com
SUMMARY:Friday Hula
DESCRIPTION:Enjoy free Friday night hula performances in our courtyard! Join us for dinner and stay for the show.
URL:https://keauhoushoppingcenter.com/events/friday-hula-5-2/2028-06-02/
CATEGORIES:Arts, Culture and Music
ATTACH;FMTTYPE=image/png:https://keauhoushoppingcenter.com/wp-content/uploads/2023/11/Untitled-design-60.png
END:VEVENT
END:VCALENDAR